0.5
0
0
-0.5
635258.359503238
4704385.78582887
