0.5
0
0
-0.5
621597.123430248
4701816.66942533
