0.5
0
0
-0.5
591033.929450953
4680521.31044702
