0.5
0
0
-0.5
608145.066550142
4685395.57863309
