0.5
0
0
-0.5
628795.101941399
4683435.35061929
