0.5
0
0
-0.5
591368.779144778
4655077.24818529
