0.5
0
0
-0.5
598071.096756136
4669049.87281248
