0.5
0
0
-0.5
598234.576776163
4657484.28917253
