1
0
0
-1
606889.709437078
4761820.59166651
