1
0
0
-1
593365.544217355
4756988.13968118
