1
0
0
-1
600304.710772433
4747833.77878296
