1
0
0
-1
613921.621322039
4748052.77279567
