1
0
0
-1
634069.390514488
4762312.04004002
