1
0
0
-1
566402.877241768
4733524.30108547
