1
0
0
-1
600374.494070255
4743206.97541402
