1
0
0
-1
661804.754444253
4739778.40178759
