1
0
0
-1
552833.518126169
4724146.82480881
