1
0
0
-1
600722.397538544
4720073.68330244
