1
0
0
-1
621313.4332361
4715785.68685373
