1
0
0
-1
628416.70506517
4702032.19784376
