1
0
0
-1
592840.238731275
4794004.72031933
