1
0
0
-1
586383.345246532
4770776.44283609
