2.5
0
0
-2.5
566390.684144561
4724444.72141008
