2.5
0
0
-2.5
621059.949335558
4725239.8359615
