2.5
0
0
-2.5
634916.833673712
4716252.55848422
