2.5
0
0
-2.5
580520.863359794
4687591.9233373
