2.5
0
0
-2.5
621741.231934587
4688227.40681297
