0.5
0
0
-0.5
573049.099204411
4754339.92099106
