0.5
0
0
-0.5
573074.365722788
4752026.47780593
