0.5
0
0
-0.5
583364.576736623
4745204.73517776
