0.5
0
0
-0.5
637513.502019802
4762287.61667179
