0.5
0
0
-0.5
630943.235380057
4750586.05290632
