0.5
0
0
-0.5
627584.041594285
4748207.84313094
