0.5
0
0
-0.5
559571.814962508
4740324.97239287
