0.5
0
0
-0.5
556184.025614342
4737982.2632523
