0.5
0
0
-0.5
607271.439231096
4740913.86437911
