0.5
0
0
-0.5
604041.301783854
4729294.04417182
