0.5
0
0
-0.5
637936.394297481
4741467.42240315
