0.5
0
0
-0.5
624434.035548549
4734264.48144865
