0.5
0
0
-0.5
658487.216605055
4737285.70346212
