0.5
0
0
-0.5
668772.978310505
4735217.43781352
