0.5
0
0
-0.5
665418.460130409
4732820.7465831
