0.5
0
0
-0.5
559859.044029321
4707938.54930623
