0.5
0
0
-0.5
587066.118300746
4722114.12498239
