0.5
0
0
-0.5
576896.011526028
4715050.54664443
