0.5
0
0
-0.5
607636.478412071
4717780.61407214
