0.5
0
0
-0.5
614473.564716273
4717891.76639595
