0.5
0
0
-0.5
617971.73198846
4713323.28802573
