0.5
0
0
-0.5
607782.078622313
4708527.4988071
