0.5
0
0
-0.5
641727.182229643
4723030.82304992
